
BEGIN:VCALENDAR
VERSION:2.0
PRODID:-//eventon.com NONSGML v1.0//EN
CALSCALE:GREGORIAN
METHOD:PUBLISH
BEGIN:VEVENT
UID:69e5fa6ed436d
DTSTAMP:20260420T100534Z
DTSTART:20260212T130000Z
DTEND:20260212T170000Z
LOCATION:Indoor Pool
SUMMARY:Swim Lessons
DESCRIPTION:Swim Lessons\nhttps://uat.wilmettepark.org/events/swim-lessons/
URL:https://uat.wilmettepark.org/events/swim-lessons/
END:VEVENT
END:VCALENDAR