
BEGIN:VCALENDAR
VERSION:2.0
PRODID:-//eventon.com NONSGML v1.0//EN
CALSCALE:GREGORIAN
METHOD:PUBLISH
BEGIN:VEVENT
UID:69e7a5d1a5bc3
DTSTAMP:20260421T162905Z
DTSTART:20260305T100000Z
DTEND:20260305T110000Z
LOCATION:Indoor Pool
SUMMARY:Open Swim
DESCRIPTION:Open Swim\nhttps://uat.wilmettepark.org/events/open-swim/var/ri
 -10.l-L1
URL:https://uat.wilmettepark.org/events/open-swim/var/ri-10.l-L1
END:VEVENT
END:VCALENDAR