
BEGIN:VCALENDAR
VERSION:2.0
PRODID:-//eventon.com NONSGML v1.0//EN
CALSCALE:GREGORIAN
METHOD:PUBLISH
BEGIN:VEVENT
UID:69e7ba3722ae5
DTSTAMP:20260421T175607Z
DTSTART:20260309T100000Z
DTEND:20260309T110000Z
LOCATION:Indoor Pool
SUMMARY:Open Swim
DESCRIPTION:Open Swim\nhttps://uat.wilmettepark.org/events/open-swim/var/ri
 -11.l-L1
URL:https://uat.wilmettepark.org/events/open-swim/var/ri-11.l-L1
END:VEVENT
END:VCALENDAR