
BEGIN:VCALENDAR
VERSION:2.0
PRODID:-//eventon.com NONSGML v1.0//EN
CALSCALE:GREGORIAN
METHOD:PUBLISH
BEGIN:VEVENT
UID:69e7f96a1f8d0
DTSTAMP:20260421T222546Z
DTSTART:20260316T100000Z
DTEND:20260316T110000Z
LOCATION:Indoor Pool
SUMMARY:Open Swim
DESCRIPTION:Open Swim\nhttps://uat.wilmettepark.org/events/open-swim/var/ri
 -14.l-L1
URL:https://uat.wilmettepark.org/events/open-swim/var/ri-14.l-L1
END:VEVENT
END:VCALENDAR