
BEGIN:VCALENDAR
VERSION:2.0
PRODID:-//eventon.com NONSGML v1.0//EN
CALSCALE:GREGORIAN
METHOD:PUBLISH
BEGIN:VEVENT
UID:69e8260753ecf
DTSTAMP:20260422T013607Z
DTSTART:20260319T100000Z
DTEND:20260319T110000Z
LOCATION:Indoor Pool
SUMMARY:Open Swim
DESCRIPTION:Open Swim\nhttps://uat.wilmettepark.org/events/open-swim/var/ri
 -16.l-L1
URL:https://uat.wilmettepark.org/events/open-swim/var/ri-16.l-L1
END:VEVENT
END:VCALENDAR