
BEGIN:VCALENDAR
VERSION:2.0
PRODID:-//eventon.com NONSGML v1.0//EN
CALSCALE:GREGORIAN
METHOD:PUBLISH
BEGIN:VEVENT
UID:69e83bc953e34
DTSTAMP:20260422T030857Z
DTSTART:20260323T100000Z
DTEND:20260323T110000Z
LOCATION:Indoor Pool
SUMMARY:Open Swim
DESCRIPTION:Open Swim\nhttps://uat.wilmettepark.org/events/open-swim/var/ri
 -17.l-L1
URL:https://uat.wilmettepark.org/events/open-swim/var/ri-17.l-L1
END:VEVENT
END:VCALENDAR