
BEGIN:VCALENDAR
VERSION:2.0
PRODID:-//eventon.com NONSGML v1.0//EN
CALSCALE:GREGORIAN
METHOD:PUBLISH
BEGIN:VEVENT
UID:69e8a9e5e9420
DTSTAMP:20260422T105845Z
DTSTART:20260402T100000Z
DTEND:20260402T110000Z
LOCATION:Indoor Pool
SUMMARY:Open Swim
DESCRIPTION:Open Swim\nhttps://uat.wilmettepark.org/events/open-swim/var/ri
 -22.l-L1
URL:https://uat.wilmettepark.org/events/open-swim/var/ri-22.l-L1
END:VEVENT
END:VCALENDAR