
BEGIN:VCALENDAR
VERSION:2.0
PRODID:-//eventon.com NONSGML v1.0//EN
CALSCALE:GREGORIAN
METHOD:PUBLISH
BEGIN:VEVENT
UID:69e8ef667650a
DTSTAMP:20260422T155518Z
DTSTART:20260409T100000Z
DTEND:20260409T110000Z
LOCATION:Indoor Pool
SUMMARY:Open Swim
DESCRIPTION:Open Swim\nhttps://uat.wilmettepark.org/events/open-swim/var/ri
 -25.l-L1
URL:https://uat.wilmettepark.org/events/open-swim/var/ri-25.l-L1
END:VEVENT
END:VCALENDAR