
BEGIN:VCALENDAR
VERSION:2.0
PRODID:-//eventon.com NONSGML v1.0//EN
CALSCALE:GREGORIAN
METHOD:PUBLISH
BEGIN:VEVENT
UID:69e91a25e9930
DTSTAMP:20260422T185741Z
DTSTART:20260414T100000Z
DTEND:20260414T110000Z
LOCATION:Indoor Pool
SUMMARY:Open Swim
DESCRIPTION:Open Swim\nhttps://uat.wilmettepark.org/events/open-swim/var/ri
 -27.l-L1
URL:https://uat.wilmettepark.org/events/open-swim/var/ri-27.l-L1
END:VEVENT
END:VCALENDAR