
BEGIN:VCALENDAR
VERSION:2.0
PRODID:-//eventon.com NONSGML v1.0//EN
CALSCALE:GREGORIAN
METHOD:PUBLISH
BEGIN:VEVENT
UID:69e731f871b28
DTSTAMP:20260421T081448Z
DTSTART:20260223T100000Z
DTEND:20260223T110000Z
LOCATION:Indoor Pool
SUMMARY:Open Swim
DESCRIPTION:Open Swim\nhttps://uat.wilmettepark.org/events/open-swim/var/ri
 -5.l-L1
URL:https://uat.wilmettepark.org/events/open-swim/var/ri-5.l-L1
END:VEVENT
END:VCALENDAR