
BEGIN:VCALENDAR
VERSION:2.0
PRODID:-//eventon.com NONSGML v1.0//EN
CALSCALE:GREGORIAN
METHOD:PUBLISH
BEGIN:VEVENT
UID:69e750f388d33
DTSTAMP:20260421T102659Z
DTSTART:20260224T100000Z
DTEND:20260224T110000Z
LOCATION:Indoor Pool
SUMMARY:Open Swim
DESCRIPTION:Open Swim\nhttps://uat.wilmettepark.org/events/open-swim/var/ri
 -6.l-L1
URL:https://uat.wilmettepark.org/events/open-swim/var/ri-6.l-L1
END:VEVENT
END:VCALENDAR