
BEGIN:VCALENDAR
VERSION:2.0
PRODID:-//eventon.com NONSGML v1.0//EN
CALSCALE:GREGORIAN
METHOD:PUBLISH
BEGIN:VEVENT
UID:69e76396d3d2b
DTSTAMP:20260421T114630Z
DTSTART:20260226T100000Z
DTEND:20260226T110000Z
LOCATION:Indoor Pool
SUMMARY:Open Swim
DESCRIPTION:Open Swim\nhttps://uat.wilmettepark.org/events/open-swim/var/ri
 -7.l-L1
URL:https://uat.wilmettepark.org/events/open-swim/var/ri-7.l-L1
END:VEVENT
END:VCALENDAR