
BEGIN:VCALENDAR
VERSION:2.0
PRODID:-//eventon.com NONSGML v1.0//EN
CALSCALE:GREGORIAN
METHOD:PUBLISH
BEGIN:VEVENT
UID:69ecf2d2e08b1
DTSTAMP:20260425T165858Z
DTSTART:20260228T090000Z
DTEND:20260228T100000Z
LOCATION:Indoor Pool
SUMMARY:Aqua Fit
DESCRIPTION:Aqua Fit\nhttps://uat.wilmettepark.org/events/aqua-fit/var/ri-1
 0.l-L1
URL:https://uat.wilmettepark.org/events/aqua-fit/var/ri-10.l-L1
END:VEVENT
END:VCALENDAR