
BEGIN:VCALENDAR
VERSION:2.0
PRODID:-//eventon.com NONSGML v1.0//EN
CALSCALE:GREGORIAN
METHOD:PUBLISH
BEGIN:VEVENT
UID:69ed327aa2c8d
DTSTAMP:20260425T213034Z
DTSTART:20260305T090000Z
DTEND:20260305T100000Z
LOCATION:Indoor Pool
SUMMARY:Aqua Fit
DESCRIPTION:Aqua Fit\nhttps://uat.wilmettepark.org/events/aqua-fit/var/ri-1
 3.l-L1
URL:https://uat.wilmettepark.org/events/aqua-fit/var/ri-13.l-L1
END:VEVENT
END:VCALENDAR