
BEGIN:VCALENDAR
VERSION:2.0
PRODID:-//eventon.com NONSGML v1.0//EN
CALSCALE:GREGORIAN
METHOD:PUBLISH
BEGIN:VEVENT
UID:69ed5b3a8b800
DTSTAMP:20260426T002426Z
DTSTART:20260309T090000Z
DTEND:20260309T100000Z
LOCATION:Indoor Pool
SUMMARY:Aqua Fit
DESCRIPTION:Aqua Fit\nhttps://uat.wilmettepark.org/events/aqua-fit/var/ri-1
 5.l-L1
URL:https://uat.wilmettepark.org/events/aqua-fit/var/ri-15.l-L1
END:VEVENT
END:VCALENDAR