
BEGIN:VCALENDAR
VERSION:2.0
PRODID:-//eventon.com NONSGML v1.0//EN
CALSCALE:GREGORIAN
METHOD:PUBLISH
BEGIN:VEVENT
UID:69ed71c45a96e
DTSTAMP:20260426T020036Z
DTSTART:20260311T090000Z
DTEND:20260311T100000Z
LOCATION:Indoor Pool
SUMMARY:Aqua Fit
DESCRIPTION:Aqua Fit\nhttps://uat.wilmettepark.org/events/aqua-fit/var/ri-1
 6.l-L1
URL:https://uat.wilmettepark.org/events/aqua-fit/var/ri-16.l-L1
END:VEVENT
END:VCALENDAR