
BEGIN:VCALENDAR
VERSION:2.0
PRODID:-//eventon.com NONSGML v1.0//EN
CALSCALE:GREGORIAN
METHOD:PUBLISH
BEGIN:VEVENT
UID:69ed8955ce613
DTSTAMP:20260426T034109Z
DTSTART:20260312T090000Z
DTEND:20260312T100000Z
LOCATION:Indoor Pool
SUMMARY:Aqua Fit
DESCRIPTION:Aqua Fit\nhttps://uat.wilmettepark.org/events/aqua-fit/var/ri-1
 7.l-L1
URL:https://uat.wilmettepark.org/events/aqua-fit/var/ri-17.l-L1
END:VEVENT
END:VCALENDAR