
BEGIN:VCALENDAR
VERSION:2.0
PRODID:-//eventon.com NONSGML v1.0//EN
CALSCALE:GREGORIAN
METHOD:PUBLISH
BEGIN:VEVENT
UID:69e9ef25bab3e
DTSTAMP:20260423T100629Z
DTSTART:20260216T090000Z
DTEND:20260216T100000Z
LOCATION:Indoor Pool
SUMMARY:Aqua Fit
DESCRIPTION:Aqua Fit\nhttps://uat.wilmettepark.org/events/aqua-fit/var/ri-3
 .l-L1
URL:https://uat.wilmettepark.org/events/aqua-fit/var/ri-3.l-L1
END:VEVENT
END:VCALENDAR