
BEGIN:VCALENDAR
VERSION:2.0
PRODID:-//eventon.com NONSGML v1.0//EN
CALSCALE:GREGORIAN
METHOD:PUBLISH
BEGIN:VEVENT
UID:69ea03e95b00a
DTSTAMP:20260423T113505Z
DTSTART:20260218T090000Z
DTEND:20260218T100000Z
LOCATION:Indoor Pool
SUMMARY:Aqua Fit
DESCRIPTION:Aqua Fit\nhttps://uat.wilmettepark.org/events/aqua-fit/var/ri-4
 .l-L1
URL:https://uat.wilmettepark.org/events/aqua-fit/var/ri-4.l-L1
END:VEVENT
END:VCALENDAR