
BEGIN:VCALENDAR
VERSION:2.0
PRODID:-//eventon.com NONSGML v1.0//EN
CALSCALE:GREGORIAN
METHOD:PUBLISH
BEGIN:VEVENT
UID:69ec96a2cc530
DTSTAMP:20260425T102538Z
DTSTART:20260221T090000Z
DTEND:20260221T100000Z
LOCATION:Indoor Pool
SUMMARY:Aqua Fit
DESCRIPTION:Aqua Fit\nhttps://uat.wilmettepark.org/events/aqua-fit/var/ri-6
 .l-L1
URL:https://uat.wilmettepark.org/events/aqua-fit/var/ri-6.l-L1
END:VEVENT
END:VCALENDAR