
BEGIN:VCALENDAR
VERSION:2.0
PRODID:-//eventon.com NONSGML v1.0//EN
CALSCALE:GREGORIAN
METHOD:PUBLISH
BEGIN:VEVENT
UID:69ecad1dcb258
DTSTAMP:20260425T120133Z
DTSTART:20260223T090000Z
DTEND:20260223T100000Z
LOCATION:Indoor Pool
SUMMARY:Aqua Fit
DESCRIPTION:Aqua Fit\nhttps://uat.wilmettepark.org/events/aqua-fit/var/ri-7
 .l-L1
URL:https://uat.wilmettepark.org/events/aqua-fit/var/ri-7.l-L1
END:VEVENT
END:VCALENDAR