
BEGIN:VCALENDAR
VERSION:2.0
PRODID:-//eventon.com NONSGML v1.0//EN
CALSCALE:GREGORIAN
METHOD:PUBLISH
BEGIN:VEVENT
UID:69ecc38b9c32b
DTSTAMP:20260425T133715Z
DTSTART:20260225T090000Z
DTEND:20260225T100000Z
LOCATION:Indoor Pool
SUMMARY:Aqua Fit
DESCRIPTION:Aqua Fit\nhttps://uat.wilmettepark.org/events/aqua-fit/var/ri-8
 .l-L1
URL:https://uat.wilmettepark.org/events/aqua-fit/var/ri-8.l-L1
END:VEVENT
END:VCALENDAR