
BEGIN:VCALENDAR
VERSION:2.0
PRODID:-//eventon.com NONSGML v1.0//EN
CALSCALE:GREGORIAN
METHOD:PUBLISH
BEGIN:VEVENT
UID:69ecdc77d9f96
DTSTAMP:20260425T152335Z
DTSTART:20260226T090000Z
DTEND:20260226T100000Z
LOCATION:Indoor Pool
SUMMARY:Aqua Fit
DESCRIPTION:Aqua Fit\nhttps://uat.wilmettepark.org/events/aqua-fit/var/ri-9
 .l-L1
URL:https://uat.wilmettepark.org/events/aqua-fit/var/ri-9.l-L1
END:VEVENT
END:VCALENDAR