
BEGIN:VCALENDAR
VERSION:2.0
PRODID:-//eventon.com NONSGML v1.0//EN
CALSCALE:GREGORIAN
METHOD:PUBLISH
BEGIN:VEVENT
UID:69e60eb1628e2
DTSTAMP:20260420T113201Z
DTSTART:20260625T051500Z
DTEND:20260625T094500Z
LOCATION:Main Pool Lanes 1-4
SUMMARY:New Trier
DESCRIPTION:New Trier\nhttps://uat.wilmettepark.org/events/new-trier/var/ri
 -10.l-L1
URL:https://uat.wilmettepark.org/events/new-trier/var/ri-10.l-L1
END:VEVENT
END:VCALENDAR