
BEGIN:VCALENDAR
VERSION:2.0
PRODID:-//eventon.com NONSGML v1.0//EN
CALSCALE:GREGORIAN
METHOD:PUBLISH
BEGIN:VEVENT
UID:69e5f8c6aea26
DTSTAMP:20260420T095830Z
DTSTART:20260707T051500Z
DTEND:20260707T094500Z
LOCATION:Main Pool Lanes 1-4
SUMMARY:New Trier
DESCRIPTION:New Trier\nhttps://uat.wilmettepark.org/events/new-trier/var/ri
 -16.l-L1
URL:https://uat.wilmettepark.org/events/new-trier/var/ri-16.l-L1
END:VEVENT
END:VCALENDAR