
BEGIN:VCALENDAR
VERSION:2.0
PRODID:-//eventon.com NONSGML v1.0//EN
CALSCALE:GREGORIAN
METHOD:PUBLISH
BEGIN:VEVENT
UID:69e5f89188c18
DTSTAMP:20260420T095737Z
DTSTART:20260713T070000Z
DTEND:20260713T124500Z
LOCATION:Main Pool Lanes 5-8
SUMMARY:Lap Swim
DESCRIPTION:Lap Swim\nhttps://uat.wilmettepark.org/events/lap-swim/var/ri-1
 9.l-L1
URL:https://uat.wilmettepark.org/events/lap-swim/var/ri-19.l-L1
END:VEVENT
END:VCALENDAR