
BEGIN:VCALENDAR
VERSION:2.0
PRODID:-//eventon.com NONSGML v1.0//EN
CALSCALE:GREGORIAN
METHOD:PUBLISH
BEGIN:VEVENT
UID:69e60eff86d5e
DTSTAMP:20260420T113319Z
DTSTART:20260709T094500Z
DTEND:20260709T110000Z
LOCATION:Main Pool Lanes 1-4
SUMMARY:Camp Lessons
DESCRIPTION:Camp Lessons\nhttps://uat.wilmettepark.org/events/camp-lessons/
 var/ri-18.l-L1
URL:https://uat.wilmettepark.org/events/camp-lessons/var/ri-18.l-L1
END:VEVENT
END:VCALENDAR