
BEGIN:VCALENDAR
VERSION:2.0
PRODID:-//eventon.com NONSGML v1.0//EN
CALSCALE:GREGORIAN
METHOD:PUBLISH
BEGIN:VEVENT
UID:69e5f5f8ef5bc
DTSTAMP:20260420T094632Z
DTSTART:20260721T094500Z
DTEND:20260721T110000Z
LOCATION:Main Pool Lanes 1-4
SUMMARY:Camp Lessons
DESCRIPTION:Camp Lessons\nhttps://uat.wilmettepark.org/events/camp-lessons/
 var/ri-24.l-L1
URL:https://uat.wilmettepark.org/events/camp-lessons/var/ri-24.l-L1
END:VEVENT
END:VCALENDAR