
BEGIN:VCALENDAR
VERSION:2.0
PRODID:-//eventon.com NONSGML v1.0//EN
CALSCALE:GREGORIAN
METHOD:PUBLISH
BEGIN:VEVENT
UID:69e623c30f435
DTSTAMP:20260420T130155Z
DTSTART:20260715T083000Z
DTEND:20260715T093000Z
LOCATION:Activity Pool
SUMMARY:Lessons
DESCRIPTION:Lessons\nhttps://uat.wilmettepark.org/events/lessons/var/ri-21.
 l-L1
URL:https://uat.wilmettepark.org/events/lessons/var/ri-21.l-L1
END:VEVENT
END:VCALENDAR