
BEGIN:VCALENDAR
VERSION:2.0
PRODID:-//eventon.com NONSGML v1.0//EN
CALSCALE:GREGORIAN
METHOD:PUBLISH
BEGIN:VEVENT
UID:69e8a10b9d306
DTSTAMP:20260422T102059Z
DTSTART:20260729T083000Z
DTEND:20260729T093000Z
LOCATION:Activity Pool
SUMMARY:Lessons
DESCRIPTION:Lessons\nhttps://uat.wilmettepark.org/events/lessons/var/ri-29.
 l-L1
URL:https://uat.wilmettepark.org/events/lessons/var/ri-29.l-L1
END:VEVENT
END:VCALENDAR