
BEGIN:VCALENDAR
VERSION:2.0
PRODID:-//eventon.com NONSGML v1.0//EN
CALSCALE:GREGORIAN
METHOD:PUBLISH
BEGIN:VEVENT
UID:69e5f8c705c03
DTSTAMP:20260420T095831Z
DTSTART:20260730T083000Z
DTEND:20260730T093000Z
LOCATION:Activity Pool
SUMMARY:Lessons
DESCRIPTION:Lessons\nhttps://uat.wilmettepark.org/events/lessons/var/ri-30.
 l-L1
URL:https://uat.wilmettepark.org/events/lessons/var/ri-30.l-L1
END:VEVENT
END:VCALENDAR