
BEGIN:VCALENDAR
VERSION:2.0
PRODID:-//eventon.com NONSGML v1.0//EN
CALSCALE:GREGORIAN
METHOD:PUBLISH
BEGIN:VEVENT
UID:69e5f8785025a
DTSTAMP:20260420T095712Z
DTSTART:20260618T083000Z
DTEND:20260618T093000Z
LOCATION:Activity Pool
SUMMARY:Lessons
DESCRIPTION:Lessons\nhttps://uat.wilmettepark.org/events/lessons/var/ri-6.l
 -L1
URL:https://uat.wilmettepark.org/events/lessons/var/ri-6.l-L1
END:VEVENT
END:VCALENDAR