
BEGIN:VCALENDAR
VERSION:2.0
PRODID:-//eventon.com NONSGML v1.0//EN
CALSCALE:GREGORIAN
METHOD:PUBLISH
BEGIN:VEVENT
UID:69e8a0031fa10
DTSTAMP:20260422T101635Z
DTSTART:20260709T110000Z
DTEND:20260709T124500Z
LOCATION:Activity Pool
SUMMARY:Lessons
DESCRIPTION:Lessons\nhttps://uat.wilmettepark.org/events/lessons-2/var/ri-1
 8.l-L1
URL:https://uat.wilmettepark.org/events/lessons-2/var/ri-18.l-L1
END:VEVENT
END:VCALENDAR