
BEGIN:VCALENDAR
VERSION:2.0
PRODID:-//eventon.com NONSGML v1.0//EN
CALSCALE:GREGORIAN
METHOD:PUBLISH
BEGIN:VEVENT
UID:69e5f8d937d1b
DTSTAMP:20260420T095849Z
DTSTART:20260720T110000Z
DTEND:20260720T124500Z
LOCATION:Activity Pool
SUMMARY:Lessons
DESCRIPTION:Lessons\nhttps://uat.wilmettepark.org/events/lessons-2/var/ri-2
 3.l-L1
URL:https://uat.wilmettepark.org/events/lessons-2/var/ri-23.l-L1
END:VEVENT
END:VCALENDAR