
BEGIN:VCALENDAR
VERSION:2.0
PRODID:-//eventon.com NONSGML v1.0//EN
CALSCALE:GREGORIAN
METHOD:PUBLISH
BEGIN:VEVENT
UID:69e623a439be6
DTSTAMP:20260420T130124Z
DTSTART:20260702T110000Z
DTEND:20260702T124500Z
LOCATION:Main Pool Lanes 1-4
SUMMARY:Lessons
DESCRIPTION:Lessons\nhttps://uat.wilmettepark.org/events/lessons-3/var/ri-1
 4.l-L1
URL:https://uat.wilmettepark.org/events/lessons-3/var/ri-14.l-L1
END:VEVENT
END:VCALENDAR