
BEGIN:VCALENDAR
VERSION:2.0
PRODID:-//eventon.com NONSGML v1.0//EN
CALSCALE:GREGORIAN
METHOD:PUBLISH
BEGIN:VEVENT
UID:69e8a12de4385
DTSTAMP:20260422T102133Z
DTSTART:20260707T110000Z
DTEND:20260707T124500Z
LOCATION:Main Pool Lanes 1-4
SUMMARY:Lessons
DESCRIPTION:Lessons\nhttps://uat.wilmettepark.org/events/lessons-3/var/ri-1
 6.l-L1
URL:https://uat.wilmettepark.org/events/lessons-3/var/ri-16.l-L1
END:VEVENT
END:VCALENDAR