
BEGIN:VCALENDAR
VERSION:2.0
PRODID:-//eventon.com NONSGML v1.0//EN
CALSCALE:GREGORIAN
METHOD:PUBLISH
BEGIN:VEVENT
UID:69e60f3bc8c30
DTSTAMP:20260420T113419Z
DTSTART:20260715T110000Z
DTEND:20260715T124500Z
LOCATION:Main Pool Lanes 1-4
SUMMARY:Lessons
DESCRIPTION:Lessons\nhttps://uat.wilmettepark.org/events/lessons-3/var/ri-2
 1.l-L1
URL:https://uat.wilmettepark.org/events/lessons-3/var/ri-21.l-L1
END:VEVENT
END:VCALENDAR