
BEGIN:VCALENDAR
VERSION:2.0
PRODID:-//eventon.com NONSGML v1.0//EN
CALSCALE:GREGORIAN
METHOD:PUBLISH
BEGIN:VEVENT
UID:69e8a10528134
DTSTAMP:20260422T102053Z
DTSTART:20260716T110000Z
DTEND:20260716T124500Z
LOCATION:Main Pool Lanes 1-4
SUMMARY:Lessons
DESCRIPTION:Lessons\nhttps://uat.wilmettepark.org/events/lessons-3/var/ri-2
 2.l-L1
URL:https://uat.wilmettepark.org/events/lessons-3/var/ri-22.l-L1
END:VEVENT
END:VCALENDAR