
BEGIN:VCALENDAR
VERSION:2.0
PRODID:-//eventon.com NONSGML v1.0//EN
CALSCALE:GREGORIAN
METHOD:PUBLISH
BEGIN:VEVENT
UID:69e60f1bae6ef
DTSTAMP:20260420T113347Z
DTSTART:20260727T110000Z
DTEND:20260727T124500Z
LOCATION:Main Pool Lanes 1-4
SUMMARY:Lessons
DESCRIPTION:Lessons\nhttps://uat.wilmettepark.org/events/lessons-3/var/ri-2
 7.l-L1
URL:https://uat.wilmettepark.org/events/lessons-3/var/ri-27.l-L1
END:VEVENT
END:VCALENDAR