
BEGIN:VCALENDAR
VERSION:2.0
PRODID:-//eventon.com NONSGML v1.0//EN
CALSCALE:GREGORIAN
METHOD:PUBLISH
BEGIN:VEVENT
UID:69e60eb44029d
DTSTAMP:20260420T113204Z
DTSTART:20260728T110000Z
DTEND:20260728T124500Z
LOCATION:Main Pool Lanes 1-4
SUMMARY:Lessons
DESCRIPTION:Lessons\nhttps://uat.wilmettepark.org/events/lessons-3/var/ri-2
 8.l-L1
URL:https://uat.wilmettepark.org/events/lessons-3/var/ri-28.l-L1
END:VEVENT
END:VCALENDAR