
BEGIN:VCALENDAR
VERSION:2.0
PRODID:-//eventon.com NONSGML v1.0//EN
CALSCALE:GREGORIAN
METHOD:PUBLISH
BEGIN:VEVENT
UID:69e5fd7dcb775
DTSTAMP:20260420T101837Z
DTSTART:20260729T110000Z
DTEND:20260729T124500Z
LOCATION:Main Pool Lanes 1-4
SUMMARY:Lessons
DESCRIPTION:Lessons\nhttps://uat.wilmettepark.org/events/lessons-3/var/ri-2
 9.l-L1
URL:https://uat.wilmettepark.org/events/lessons-3/var/ri-29.l-L1
END:VEVENT
END:VCALENDAR