
BEGIN:VCALENDAR
VERSION:2.0
PRODID:-//eventon.com NONSGML v1.0//EN
CALSCALE:GREGORIAN
METHOD:PUBLISH
BEGIN:VEVENT
UID:69e60edd0d21b
DTSTAMP:20260420T113245Z
DTSTART:20260730T110000Z
DTEND:20260730T124500Z
LOCATION:Main Pool Lanes 1-4
SUMMARY:Lessons
DESCRIPTION:Lessons\nhttps://uat.wilmettepark.org/events/lessons-3/var/ri-3
 0.l-L1
URL:https://uat.wilmettepark.org/events/lessons-3/var/ri-30.l-L1
END:VEVENT
END:VCALENDAR