
BEGIN:VCALENDAR
VERSION:2.0
PRODID:-//eventon.com NONSGML v1.0//EN
CALSCALE:GREGORIAN
METHOD:PUBLISH
BEGIN:VEVENT
UID:69e8d7186fbbe
DTSTAMP:20260422T141136Z
DTSTART:20260624T110000Z
DTEND:20260624T124500Z
LOCATION:Main Pool Lanes 1-4
SUMMARY:Lessons
DESCRIPTION:Lessons\nhttps://uat.wilmettepark.org/events/lessons-3/var/ri-9
 .l-L1
URL:https://uat.wilmettepark.org/events/lessons-3/var/ri-9.l-L1
END:VEVENT
END:VCALENDAR