
BEGIN:VCALENDAR
VERSION:2.0
PRODID:-//eventon.com NONSGML v1.0//EN
CALSCALE:GREGORIAN
METHOD:PUBLISH
BEGIN:VEVENT
UID:69e622f39307d
DTSTAMP:20260420T125827Z
DTSTART:20260625T090000Z
DTEND:20260625T124500Z
LOCATION:Wading Pool
SUMMARY:Wading Pool
DESCRIPTION:Wading Pool\nhttps://uat.wilmettepark.org/events/wading-pool/va
 r/ri-12.l-L1
URL:https://uat.wilmettepark.org/events/wading-pool/var/ri-12.l-L1
END:VEVENT
END:VCALENDAR