
BEGIN:VCALENDAR
VERSION:2.0
PRODID:-//eventon.com NONSGML v1.0//EN
CALSCALE:GREGORIAN
METHOD:PUBLISH
BEGIN:VEVENT
UID:69e8a109c787d
DTSTAMP:20260422T102057Z
DTSTART:20260629T090000Z
DTEND:20260629T124500Z
LOCATION:Wading Pool
SUMMARY:Wading Pool
DESCRIPTION:Wading Pool\nhttps://uat.wilmettepark.org/events/wading-pool/va
 r/ri-14.l-L1
URL:https://uat.wilmettepark.org/events/wading-pool/var/ri-14.l-L1
END:VEVENT
END:VCALENDAR