
BEGIN:VCALENDAR
VERSION:2.0
PRODID:-//eventon.com NONSGML v1.0//EN
CALSCALE:GREGORIAN
METHOD:PUBLISH
BEGIN:VEVENT
UID:69e5f37de89eb
DTSTAMP:20260420T093557Z
DTSTART:20260630T090000Z
DTEND:20260630T124500Z
LOCATION:Wading Pool
SUMMARY:Wading Pool
DESCRIPTION:Wading Pool\nhttps://uat.wilmettepark.org/events/wading-pool/va
 r/ri-15.l-L1
URL:https://uat.wilmettepark.org/events/wading-pool/var/ri-15.l-L1
END:VEVENT
END:VCALENDAR