
BEGIN:VCALENDAR
VERSION:2.0
PRODID:-//eventon.com NONSGML v1.0//EN
CALSCALE:GREGORIAN
METHOD:PUBLISH
BEGIN:VEVENT
UID:69e622d491981
DTSTAMP:20260420T125756Z
DTSTART:20260707T090000Z
DTEND:20260707T124500Z
LOCATION:Wading Pool
SUMMARY:Wading Pool
DESCRIPTION:Wading Pool\nhttps://uat.wilmettepark.org/events/wading-pool/va
 r/ri-20.l-L1
URL:https://uat.wilmettepark.org/events/wading-pool/var/ri-20.l-L1
END:VEVENT
END:VCALENDAR