
BEGIN:VCALENDAR
VERSION:2.0
PRODID:-//eventon.com NONSGML v1.0//EN
CALSCALE:GREGORIAN
METHOD:PUBLISH
BEGIN:VEVENT
UID:69e60edd829ee
DTSTAMP:20260420T113245Z
DTSTART:20260714T090000Z
DTEND:20260714T124500Z
LOCATION:Wading Pool
SUMMARY:Wading Pool
DESCRIPTION:Wading Pool\nhttps://uat.wilmettepark.org/events/wading-pool/va
 r/ri-25.l-L1
URL:https://uat.wilmettepark.org/events/wading-pool/var/ri-25.l-L1
END:VEVENT
END:VCALENDAR