
BEGIN:VCALENDAR
VERSION:2.0
PRODID:-//eventon.com NONSGML v1.0//EN
CALSCALE:GREGORIAN
METHOD:PUBLISH
BEGIN:VEVENT
UID:69e623033fe79
DTSTAMP:20260420T125843Z
DTSTART:20260715T090000Z
DTEND:20260715T124500Z
LOCATION:Wading Pool
SUMMARY:Wading Pool
DESCRIPTION:Wading Pool\nhttps://uat.wilmettepark.org/events/wading-pool/va
 r/ri-26.l-L1
URL:https://uat.wilmettepark.org/events/wading-pool/var/ri-26.l-L1
END:VEVENT
END:VCALENDAR