
BEGIN:VCALENDAR
VERSION:2.0
PRODID:-//eventon.com NONSGML v1.0//EN
CALSCALE:GREGORIAN
METHOD:PUBLISH
BEGIN:VEVENT
UID:69e5f88344f8e
DTSTAMP:20260420T095723Z
DTSTART:20260724T090000Z
DTEND:20260724T124500Z
LOCATION:Wading Pool
SUMMARY:Wading Pool
DESCRIPTION:Wading Pool\nhttps://uat.wilmettepark.org/events/wading-pool/va
 r/ri-33.l-L1
URL:https://uat.wilmettepark.org/events/wading-pool/var/ri-33.l-L1
END:VEVENT
END:VCALENDAR